BEGIN:VCALENDAR
VERSION:2.0
PRODID:-//George Danner - ECPv6.15.1.1//NONSGML v1.0//EN
CALSCALE:GREGORIAN
METHOD:PUBLISH
X-ORIGINAL-URL:https://georgedanner.com
X-WR-CALDESC:Events for George Danner
REFRESH-INTERVAL;VALUE=DURATION:PT1H
X-Robots-Tag:noindex
X-PUBLISHED-TTL:PT1H
BEGIN:VTIMEZONE
TZID:America/Chicago
BEGIN:DAYLIGHT
TZOFFSETFROM:-0600
TZOFFSETTO:-0500
TZNAME:CDT
DTSTART:20190310T080000
END:DAYLIGHT
BEGIN:STANDARD
TZOFFSETFROM:-0500
TZOFFSETTO:-0600
TZNAME:CST
DTSTART:20191103T070000
END:STANDARD
BEGIN:DAYLIGHT
TZOFFSETFROM:-0600
TZOFFSETTO:-0500
TZNAME:CDT
DTSTART:20200308T080000
END:DAYLIGHT
BEGIN:STANDARD
TZOFFSETFROM:-0500
TZOFFSETTO:-0600
TZNAME:CST
DTSTART:20201101T070000
END:STANDARD
END:VTIMEZONE
BEGIN:VEVENT
DTSTART;TZID=America/Chicago:20200225T080000
DTEND;TZID=America/Chicago:20200228T170000
DTSTAMP:20260423T153635
CREATED:20191021T154646Z
LAST-MODIFIED:20191021T154646Z
UID:2052-1582617600-1582909200@georgedanner.com
SUMMARY:SuperReturn International - Berlin\, Germany
DESCRIPTION:Innovative approaches\, expert insights\nWhat are the key gamechangers for private equity today? \nThe world’s most influential GPs and LPs will be coming together to examine the latest opportunities\, challenges and projections for 2020. \nThe best networking opportunity of the year\n\nThis is your annual opportunity to connect with 3\,000+ attendees from 50+ countries. New contacts. New business. \nThousands of successful meetings are held at SuperReturn International and countless deals will be done during 4 days of intense networking. \n\nWhy do 1\,000+ LPs attend?\n\nInvestors at SuperReturn International 2020 will enjoy more tailored\, LP-led sessions than ever before including 3 exclusive ‘Off The Record” discussions\, an invite-only lunch and breakfast and access to the LP only lounge.
URL:https://georgedanner.com/event/superreturn-international-berlin-germany/
LOCATION:InterContinental Hotel\, Berlin\, Budapester Str. 2\, Berlin\, 10787\, Germany
CATEGORIES:Conference Event,Speaker Event
ATTACH;FMTTYPE=image/png:https://georgedanner.com/wp-content/uploads/2019/10/SuperReturn-International.png
END:VEVENT
BEGIN:VEVENT
DTSTART;TZID=America/Chicago:20191009T180000
DTEND;TZID=America/Chicago:20191010T180000
DTSTAMP:20260423T153636
CREATED:20190420T201049Z
LAST-MODIFIED:20190420T201049Z
UID:1995-1570644000-1570730400@georgedanner.com
SUMMARY:DATACON 2019
DESCRIPTION:DATACON 2019 will highlight automation and data analytics for process industries and beyond. Attendees with learn the importance of migrating from a “paper paradigm” to a digitally efficient ecosystem of integrated mobile applications. Add “cognitive ability” to your assets so companies can begin to tell you what they need and when.  We are using cutting edge algorithms to help make your machines “smarter”. It’s the next generation of reliability. Discover how to use simulation to evaluate possible options for everything from turn-arounds\, complete supply chain visualization\, to managing preventative maintenance checks; helping facilities identify the those solutions that provide the best results.
URL:https://georgedanner.com/event/datacon-2019/
LOCATION:Top Golf Katy\, 1030 Memorial Brook Blvd.\, Houston\, TX\, 77084\, United States
CATEGORIES:Conference Event,Speaker Event
ATTACH;FMTTYPE=image/jpeg:https://georgedanner.com/wp-content/uploads/2019/04/fullsizeoutput_6e.jpeg
ORGANIZER;CN="Innovate Social Media":MAILTO:info@innovatesocialmedia.com
END:VEVENT
BEGIN:VEVENT
DTSTART;TZID=America/Chicago:20190626T080000
DTEND;TZID=America/Chicago:20190626T170000
DTSTAMP:20260423T153636
CREATED:20190221T212010Z
LAST-MODIFIED:20190420T160702Z
UID:1931-1561536000-1561568400@georgedanner.com
SUMMARY:Evanta CIO Conference
DESCRIPTION:The Global CIO Executive Summit is an invitation only forum for enterprise heads of IT. Therefore\, we recruit from the world’s largest multinational organizations. The annual summit dives deep into critical issues encountered by CIOs. Likewise\, the conference focuses on those who lead large\, international teams. As well as\, those who operate in complex business environments. Most importantly\, CIOs who make decisions that carry significant implications to their companies\, industries and profession. The agenda has been carefully crafted by our Governing Body.  Thus\, active CIOs of global organizations will deliver the most timely and relevant information in a true peer-to-peer environment. \nWhy you should participate: \nAuthenticity: Our unique by CIOs\, for CIOs promise ensures the agenda only covers issues critically important to you. Honest closed-door boardroom discussions and practitioner-led sessions provide unvarnished perspectives that equip you to act with confidence and speed. \nPerspective: The summit brings CEOs and fellow C-level leaders to the conversation. Together\, we will discuss how to collaborate most effectively and elevate the business impact of IT. \nCommunity: Benefit from the guidance and support of peers who understand your challenges\, are committed to your success\, and share your passion for progressing the function. \nPersonal Development: Enhance your effectiveness and well-being through an array of enriching experiences led by world-class wellness and professional development experts.
URL:https://georgedanner.com/event/evanta-cio-conference/
LOCATION:Post Oak Hotel\, 1600 West Loop South\, Houston\, TX\, 77027\, United States
CATEGORIES:Conference Event,Speaker Event
ATTACH;FMTTYPE=image/jpeg:https://georgedanner.com/wp-content/uploads/2019/02/HOU-CIO_George-Danner_dinner-keynote_with-background.jpg
END:VEVENT
BEGIN:VEVENT
DTSTART;TZID=America/Chicago:20190521T183000
DTEND;TZID=America/Chicago:20190524T200000
DTSTAMP:20260423T153636
CREATED:20190420T153700Z
LAST-MODIFIED:20190420T153700Z
UID:1985-1558463400-1558728000@georgedanner.com
SUMMARY:RELIABILITY & MAINTENANCE CONFERENCE AND EXHIBITION
DESCRIPTION:This 3-day program includes keynote addresses\, Including our very own\, George Danner. Technical and management presentations\, discussion groups\, and structured question and answer sessions give attendees opportunities to meet and talk with purveyors in the fuel and petrol industries. An exhibition of products and services will also be presented outside of the conference. Presentations focus on improving reliability in the refining and petrochemical industry. The conference covers topics such as effective maintenance organization\, productivity\, equipment reliability\, health and safety\, training\, environmental control\, predictive/preventive maintenance\, maintenance and engineering standards\, inspection\, procurement\, and innovative reliability technology. \nThe Exhibition\, held as part of the conference\, gives attendees the opportunity to meet and talk with representatives from companies offering a variety of goods and services to the refining and petrochemical industries. \nYou can learn more by clicking here: https://www2.afpm.org/forms/meeting/Microsite/RMC19 \nYou can stay up to date with George Danner’s events by clicking here: https://georgedanner.com/events/
URL:https://georgedanner.com/event/reliability-maintenance-conference/
LOCATION:Gaylord Texan Resort and Convention Center\, 1501 Gaylord Trl\, Grapevine\, TX\, 76051\, United States
CATEGORIES:Conference Event,Speaker Event
ATTACH;FMTTYPE=image/jpeg:https://georgedanner.com/wp-content/uploads/2019/04/shutterstock_1283435917-375x250.jpg
END:VEVENT
BEGIN:VEVENT
DTSTART;VALUE=DATE:20190418
DTEND;VALUE=DATE:20190420
DTSTAMP:20260423T153636
CREATED:20190226T172829Z
LAST-MODIFIED:20190226T172829Z
UID:1952-1555545600-1555718399@georgedanner.com
SUMMARY:Data Analytics for Decision-Making and Problem-Solving
DESCRIPTION:Now more than ever\, data analytics is helping decision-makers to design and deploy superior strategies that produce superior results. Managers and leaders from all levels of the organization need to understand how to define the challenges they face and how to employ analytics to address those challenges. This course will help you apply analytical business strategy by putting data analytics to valuable use inside of your company. We have created a solid base of knowledge which will allow you to go out and solve real-world business problems. \nThis course presents an overview as well as practical guidelines for applying analytics and data to complex business decisions as they arise. The textbook used in the course will be Profit from Science\, written by the instructor.
URL:https://georgedanner.com/event/data-analytics-for-decision-making-and-problem-solving/
LOCATION:University of Houston Bauer College of Business\, 4750 Calhoun Road\, Houston\, TX\, 77204
CATEGORIES:Speaker Event
ATTACH;FMTTYPE=image/png:https://georgedanner.com/wp-content/uploads/2018/12/Bauer-College-of-Business-Logo.png
END:VEVENT
BEGIN:VEVENT
DTSTART;VALUE=DATE:20190407
DTEND;VALUE=DATE:20190412
DTSTAMP:20260423T153636
CREATED:20190226T180940Z
LAST-MODIFIED:20190311T193745Z
UID:1957-1554595200-1555027199@georgedanner.com
SUMMARY:COLLABORATE 19: Technology and Applications Forum for the Oracle Community
DESCRIPTION:COLLABORATE 19 is the largest user-led\, user-focused event for Oracle users of all levels. IT decision makers\, super users\, Oracle and Oracle vendors gather to share real-world insights and practical solutions. Likewise\, users gain education to maximize return on their Oracle investments. Expand your Oracle skill set by creating a customized agenda from 1\,000+ interactive sessions. Network with experienced professionals who have the same challenges as you. Ask questions directly to Oracle and Oracle vendors at the Exhibitor Showcase. The user-focus of COLLABORATE 19 ensures that it’s full of first-hand experiences\, real-world scenarios\, and honest advice. Whether you want to optimize your Oracle Cloud investment\, need help transitioning\, or are considering a move to Oracle Cloud\, there’s something here for everyone.
URL:https://georgedanner.com/event/collaborate-19-technology-and-applications-forum-for-the-oracle-community/
LOCATION:Henry B. González Convention Center\, 900 E Market St\, San Antonio\, TX\, 78205\, United States
CATEGORIES:Conference Event,Speaker Event
ATTACH;FMTTYPE=image/png:https://georgedanner.com/wp-content/uploads/2016/08/PRESS-3128-x-1474.png
END:VEVENT
END:VCALENDAR